BEGIN:VCALENDAR
VERSION:2.0
PRODID:-//wp-events-plugin.com//7.2.3.1//EN
BEGIN:VEVENT
UID:41@atmos-artiterapeutiche.it
DTSTART:20260429T193000Z
DTEND:20260429T203000Z
DTSTAMP:20260413T174942Z
URL:https://atmos-artiterapeutiche.it/eventi/aus-den-sieben-tagen/
SUMMARY:"AUS DEN SIEBEN TAGEN" a cura di Gianluca Taddei
DESCRIPTION:Le intuizioni di K. H. Stockhausen conducono la musica e la per
 formance verso i confini estremi del sentire e dell’immaginare. Qual è 
 la giusta distanza? Fino a quando ha senso ripetere proprio “quel” suo
 no? Le sue brevi “partiture testuali” conducono dall’esplorazione de
 l sé all’elaborazione performativa\, attraverso un percorso che solleci
 ta nel pubblico ascolto e attenzione\, stimolandolo a una trasformazione m
 olecolare. Libero adattamento dall’opera di K.H. Stockhausen.
ATTACH;FMTTYPE=image/jpeg:https://i0.wp.com/atmos-artiterapeutiche.it/wp-c
 ontent/uploads/2026/04/gianluca.jpg?fit=2456%2C1936&ssl=1
CATEGORIES:Workshop
LOCATION:Atmos arti terapeutiche\, via Giovanni Ansaldo\, 6\, Roma\, RM\, 0
 0154\, Lazio\, Italia
X-APPLE-STRUCTURED-LOCATION;VALUE=URI;X-ADDRESS=via Giovanni Ansaldo\, 6\, 
 Roma\, RM\, 00154\, Lazio\, Italia;X-APPLE-RADIUS=100;X-TITLE=Atmos arti t
 erapeutiche:geo:0,0
END:VEVENT
END:VCALENDAR