BEGIN:VCALENDAR
VERSION:2.0
PRODID:-//wp-events-plugin.com//7.2.3.1//EN
BEGIN:VEVENT
UID:40@atmos-artiterapeutiche.it
DTSTART:20260424T183000Z
DTEND:20260424T193000Z
DTSTAMP:20260413T172237Z
URL:https://atmos-artiterapeutiche.it/eventi/concerto-trio-mirti/
SUMMARY:concerto Trio Mirti
DESCRIPTION:Concerto trio Mirti
ATTACH;FMTTYPE=image/jpeg:https://i0.wp.com/atmos-artiterapeutiche.it/wp-c
 ontent/uploads/2026/04/IMG-20260413-WA0001.jpg?fit=1079%2C1594&ssl=1
CATEGORIES:Workshop
LOCATION:Atmos arti terapeutiche\, via Giovanni Ansaldo\, 6\, Roma\, RM\, 0
 0154\, Lazio\, Italia
X-APPLE-STRUCTURED-LOCATION;VALUE=URI;X-ADDRESS=via Giovanni Ansaldo\, 6\, 
 Roma\, RM\, 00154\, Lazio\, Italia;X-APPLE-RADIUS=100;X-TITLE=Atmos arti t
 erapeutiche:geo:0,0
END:VEVENT
END:VCALENDAR