BEGIN:VCALENDAR
VERSION:2.0
PRODID:-//wp-events-plugin.com//7.2.3.1//EN
BEGIN:VEVENT
UID:27@atmos-artiterapeutiche.it
DTSTART:20240608T100000Z
DTEND:20240608T140000Z
DTSTAMP:20240206T185355Z
URL:https://atmos-artiterapeutiche.it/eventi/dissidenze-di-genere/
SUMMARY:DISSIDENZE DI GENERE
DESCRIPTION:Metanalisi dell'identità di genere
ATTACH;FMTTYPE=image/jpeg:https://i0.wp.com/atmos-artiterapeutiche.it/wp-c
 ontent/uploads/2024/02/dissidenze.jpg?fit=600%2C450&ssl=1
CATEGORIES:Workshop
END:VEVENT
END:VCALENDAR