BEGIN:VCALENDAR
VERSION:2.0
PRODID:-//wp-events-plugin.com//7.2.3.1//EN
BEGIN:VEVENT
UID:35@atmos-artiterapeutiche.it
DTSTART:20250218T173000Z
DTEND:20261010T210000Z
DTSTAMP:20241105T112257Z
URL:https://atmos-artiterapeutiche.it/eventi/formazione-in-terapia-sistemi
 ca-esperienziale/
SUMMARY:Formazione in Terapia sistemica esperienziale
DESCRIPTION:Corso intensivo per Gestaltisti e Psicoterapeuti
ATTACH;FMTTYPE=image/jpeg:https://i0.wp.com/atmos-artiterapeutiche.it/wp-c
 ontent/uploads/2024/11/pexels-pixabay-276243.jpg?fit=512%2C640&ssl=1
CATEGORIES:Formazione
END:VEVENT
END:VCALENDAR