BEGIN:VCALENDAR
VERSION:2.0
PRODID:-//wp-events-plugin.com//7.2.3.1//EN
BEGIN:VEVENT
UID:30@atmos-artiterapeutiche.it
DTSTART:20240614T190000Z
DTEND:20240616T210000Z
DTSTAMP:20240203T193601Z
URL:https://atmos-artiterapeutiche.it/eventi/i-quattro-elementi-del-mondo-
 maya/
SUMMARY:I QUATTRO ELEMENTI DEL MONDO MAYA
DESCRIPTION:Intensivo di 3 giorni
ATTACH;FMTTYPE=image/jpeg:https://i0.wp.com/atmos-artiterapeutiche.it/wp-c
 ontent/uploads/2024/02/mondo_maya.jpg?fit=600%2C450&ssl=1
CATEGORIES:Workshop
LOCATION:Atmos arti terapeutiche\, via Giovanni Ansaldo\, 6\, Roma\, RM\, 0
 0154\, Lazio\, Italia
X-APPLE-STRUCTURED-LOCATION;VALUE=URI;X-ADDRESS=via Giovanni Ansaldo\, 6\, 
 Roma\, RM\, 00154\, Lazio\, Italia;X-APPLE-RADIUS=100;X-TITLE=Atmos arti t
 erapeutiche:geo:0,0
END:VEVENT
END:VCALENDAR