BEGIN:VCALENDAR
VERSION:2.0
PRODID:-//wp-events-plugin.com//7.2.3.1//EN
BEGIN:VEVENT
UID:6@atmos-artiterapeutiche.it
DTSTART:20231218T190000Z
DTEND:20240701T200000Z
DTSTAMP:20240302T190654Z
URL:https://atmos-artiterapeutiche.it/eventi/incontri-di-meditazione-2/
SUMMARY:Incontri di meditazione
DESCRIPTION:Incontro settimanale
ATTACH;FMTTYPE=image/jpeg:https://i0.wp.com/atmos-artiterapeutiche.it/wp-c
 ontent/uploads/2022/05/MEDITAZIONE-200x200-1.jpg?fit=200%2C200&ssl=1
CATEGORIES:Workshop
LOCATION:Atmos arti terapeutiche\, via Giovanni Ansaldo\, 6\, Roma\, RM\, 0
 0154\, Lazio\, Italia
X-APPLE-STRUCTURED-LOCATION;VALUE=URI;X-ADDRESS=via Giovanni Ansaldo\, 6\, 
 Roma\, RM\, 00154\, Lazio\, Italia;X-APPLE-RADIUS=100;X-TITLE=Atmos arti t
 erapeutiche:geo:0,0
END:VEVENT
END:VCALENDAR