BEGIN:VCALENDAR
VERSION:2.0
PRODID:-//wp-events-plugin.com//7.2.3.1//EN
BEGIN:VEVENT
UID:3@atmos-artiterapeutiche.it
DTSTART:20240930T190000Z
DTEND:20250707T200000Z
DTSTAMP:20241105T105544Z
URL:https://atmos-artiterapeutiche.it/eventi/incontri-di-meditazione-3/
SUMMARY:Incontri di Meditazione
DESCRIPTION:silenziosa guidata
ATTACH;FMTTYPE=image/jpeg:https://i0.wp.com/atmos-artiterapeutiche.it/wp-c
 ontent/uploads/2022/05/MEDITAZIONE-200x200-1.jpg?fit=200%2C200&ssl=1
CATEGORIES:Workshop
END:VEVENT
END:VCALENDAR