BEGIN:VCALENDAR
VERSION:2.0
PRODID:-//wp-events-plugin.com//7.2.3.1//EN
BEGIN:VEVENT
UID:38@atmos-artiterapeutiche.it
DTSTART:20250922T190000Z
DTEND:20260706T200000Z
DTSTAMP:20250731T143406Z
URL:https://atmos-artiterapeutiche.it/eventi/incontri-di-meditazione/
SUMMARY:Incontri di meditazione - Lunedì
DESCRIPTION:conduzione Grazia e Luana
ATTACH;FMTTYPE=image/jpeg:https://i0.wp.com/atmos-artiterapeutiche.it/wp-c
 ontent/uploads/2024/02/mia_musica.jpg?fit=600%2C600&ssl=1
CATEGORIES:Workshop
END:VEVENT
END:VCALENDAR