BEGIN:VCALENDAR
VERSION:2.0
PRODID:-//wp-events-plugin.com//7.2.3.1//EN
BEGIN:VEVENT
UID:18@atmos-artiterapeutiche.it
DTSTART:20231025T183000Z
DTEND:20240410T210000Z
DTSTAMP:20240207T174512Z
URL:https://atmos-artiterapeutiche.it/eventi/laboratorio-segni-nel-tempo/
SUMMARY:Laboratorio "SEGNI NEL TEMPO"
DESCRIPTION:Laboratorio musicale
ATTACH;FMTTYPE=image/jpeg:https://i0.wp.com/atmos-artiterapeutiche.it/wp-c
 ontent/uploads/2023/10/LaboratorioTaddei-e1697640891195.jpg?fit=450%2C566&
 ssl=1
CATEGORIES:Workshop
LOCATION:Atmos arti terapeutiche\, via Giovanni Ansaldo\, 6\, Roma\, RM\, 0
 0154\, Lazio\, Italia
X-APPLE-STRUCTURED-LOCATION;VALUE=URI;X-ADDRESS=via Giovanni Ansaldo\, 6\, 
 Roma\, RM\, 00154\, Lazio\, Italia;X-APPLE-RADIUS=100;X-TITLE=Atmos arti t
 erapeutiche:geo:0,0
END:VEVENT
END:VCALENDAR