BEGIN:VCALENDAR
VERSION:2.0
PRODID:-//wp-events-plugin.com//7.2.3.1//EN
BEGIN:VEVENT
UID:36@atmos-artiterapeutiche.it
DTSTART:20250129T180000Z
DTEND:20250528T210000Z
DTSTAMP:20250127T102603Z
URL:https://atmos-artiterapeutiche.it/eventi/racconta-crea-opera-corale/
SUMMARY:Racconta Crea - Opera Corale
DESCRIPTION:Racconta Crea - Opera Corale
ATTACH;FMTTYPE=image/jpeg:https://i0.wp.com/atmos-artiterapeutiche.it/wp-c
 ontent/uploads/2025/01/Screenshot-2025-01-27-alle-11.13.57-1.png?fit=778%2
 C468&ssl=1
CATEGORIES:Workshop
END:VEVENT
END:VCALENDAR