BEGIN:VCALENDAR
VERSION:2.0
PRODID:-//wp-events-plugin.com//7.2.3.1//EN
BEGIN:VEVENT
UID:34@atmos-artiterapeutiche.it
DTSTART:20241123T150000Z
DTEND:20250510T193000Z
DTSTAMP:20241002T193255Z
URL:https://atmos-artiterapeutiche.it/eventi/sensi-laboratorio/
SUMMARY:Sensi - laboratorio
DESCRIPTION:\n(liberamente ispirato a “Prozedur” di Boris Porena)
ATTACH;FMTTYPE=image/jpeg:https://atmos-artiterapeutiche.it/wp-content/upl
 oads/2024/10/laboratorioGian-1-pdf.jpg
CATEGORIES:Workshop
END:VEVENT
END:VCALENDAR